BEGIN:VCALENDAR
VERSION:2.0
PRODID:-//ciseventsgroup.com
CALSCALE:GREGORIAN
BEGIN:VEVENT
UID:20260421T112007Z@ciseventsgroup.com
SUMMARY:Міжнародний Форум «Навколо	ЦОД.Навколо Хмари. Навколо Даних.	Навколо IoT. Навколо Безпеки.» (BIT-2025) та	«Навколо Кабелю. Навколо IP. Smart Building»	(BIS-2025) у Києві
DESCRIPTION:«Навколо Хмари. Навколо Даних. Навколо	IoT. Навколо Безпеки. Навколо Кабелю.	Навколо IP. Smart Building» (або BIT&BIS-2025) – це	подія №1 на вітчизняному ринку	високих технологій. Захід охоплює всі	питання, пов'язані з хмарними	обчисленнями, бізнес-аналітикою,	Великими Даними, зберіганням та	обробкою інформації, Інтернетом	речей, інформаційною безпекою,	побудовою кабельних мереж, інженерних	систем будівель і телеком-ліній,	тестуванням і діагностикою систем	зв'язку, розгортанням сучасних	інформаційно-комунікаційних сервісів	(рішення, послуги, продукти,	технології та експертиза). 
LOCATION:Україна, Київ
DTSTART;TZID=Europe/Kiev:20250918T090000
DTEND;TZID=Europe/Kiev:20250918T160000
DTSTAMP:20260421T112007Z
END:VEVENT
END:VCALENDAR